BEGIN:VCALENDAR
VERSION:2.0
PRODID:-//GAVAP-MOTO - ECPv6.15.20//NONSGML v1.0//EN
CALSCALE:GREGORIAN
METHOD:PUBLISH
X-ORIGINAL-URL:https://gavapmoto.com
X-WR-CALDESC:Évènements pour GAVAP-MOTO
REFRESH-INTERVAL;VALUE=DURATION:PT1H
X-Robots-Tag:noindex
X-PUBLISHED-TTL:PT1H
BEGIN:VTIMEZONE
TZID:Europe/Paris
BEGIN:DAYLIGHT
TZOFFSETFROM:+0100
TZOFFSETTO:+0200
TZNAME:CEST
DTSTART:20240331T010000
END:DAYLIGHT
BEGIN:STANDARD
TZOFFSETFROM:+0200
TZOFFSETTO:+0100
TZNAME:CET
DTSTART:20241027T010000
END:STANDARD
BEGIN:DAYLIGHT
TZOFFSETFROM:+0100
TZOFFSETTO:+0200
TZNAME:CEST
DTSTART:20250330T010000
END:DAYLIGHT
BEGIN:STANDARD
TZOFFSETFROM:+0200
TZOFFSETTO:+0100
TZNAME:CET
DTSTART:20251026T010000
END:STANDARD
BEGIN:DAYLIGHT
TZOFFSETFROM:+0100
TZOFFSETTO:+0200
TZNAME:CEST
DTSTART:20260329T010000
END:DAYLIGHT
BEGIN:STANDARD
TZOFFSETFROM:+0200
TZOFFSETTO:+0100
TZNAME:CET
DTSTART:20261025T010000
END:STANDARD
END:VTIMEZONE
BEGIN:VEVENT
DTSTART;TZID=Europe/Paris:20250816T080000
DTEND;TZID=Europe/Paris:20250816T170000
DTSTAMP:20260423T004239
CREATED:20250122T151659Z
LAST-MODIFIED:20250730T194510Z
UID:5600-1755331200-1755363600@gavapmoto.com
SUMMARY:Prologue FMA
DESCRIPTION:Concours d’élégance Motos
URL:https://gavapmoto.com/event/prologue-fma/
LOCATION:Flixecourt
END:VEVENT
BEGIN:VEVENT
DTSTART;VALUE=DATE:20250817
DTEND;VALUE=DATE:20250818
DTSTAMP:20260423T004239
CREATED:20250730T174044Z
LAST-MODIFIED:20250805T153919Z
UID:6194-1755388800-1755475199@gavapmoto.com
SUMMARY:FMA -Etape 1- Flixecourt-L'isle Adam
DESCRIPTION:Cliquer pour accéder à \nl’affiche du jour et \nle road book du jour  \nLes participants roulent par petits groupes\, 2 à 5 motos\, les départs se font en général entre 8h et 9h\, les arrivées à partir de 16h.
URL:https://gavapmoto.com/event/fma-etape-1-flixecourt-lisle-adam/
LOCATION:Etape 1 L’Isle Adam\, 1 avenue Paul Thoureau\, L'Isle Adam\, 95290\, France
CATEGORIES:FMA 2025
END:VEVENT
BEGIN:VEVENT
DTSTART;VALUE=DATE:20250818
DTEND;VALUE=DATE:20250819
DTSTAMP:20260423T004239
CREATED:20250730T190643Z
LAST-MODIFIED:20250805T153946Z
UID:6219-1755475200-1755561599@gavapmoto.com
SUMMARY:FMA -Etape 2- L'Isle Adam-Guignicourt
DESCRIPTION:Cliquer pour accéder à \nl’affiche du jour \net \nle road book du jour \nLes participants roulent par petits groupes\, 2 à 5 motos\, les départs se font en général entre 8h et 9h\, les arrivées à partir de 16h.
URL:https://gavapmoto.com/event/fma-etape-2-lisle-adam-guignicourt/
LOCATION:Etape 2 Guignicourt\, Villeneuve sur Aisne\, 02190\, France
CATEGORIES:FMA 2025
END:VEVENT
BEGIN:VEVENT
DTSTART;VALUE=DATE:20250819
DTEND;VALUE=DATE:20250820
DTSTAMP:20260423T004239
CREATED:20250730T190954Z
LAST-MODIFIED:20250805T154008Z
UID:6221-1755561600-1755647999@gavapmoto.com
SUMMARY:FMA -Etape 3- Guignicourt-Villeneuve sur Yonne
DESCRIPTION:Cliquer pour accéder à \nl’affiche du jour \net \nle road book du jour \nLes participants roulent par petits groupes\, 2 à 5 motos\, les départs se font en général entre 8h et 9h\, les arrivées à partir de 16h.
URL:https://gavapmoto.com/event/fma-etape-3-guignicourt-villeneuve-sur-yonne/
LOCATION:Etape 3 Villeneuve sur Yonne\, 14\, Rue du Saucil\, Villeneuve sur Yonne\, 89500\, France
CATEGORIES:FMA 2025
END:VEVENT
BEGIN:VEVENT
DTSTART;VALUE=DATE:20250820
DTEND;VALUE=DATE:20250821
DTSTAMP:20260423T004239
CREATED:20250730T191152Z
LAST-MODIFIED:20250805T154027Z
UID:6223-1755648000-1755734399@gavapmoto.com
SUMMARY:FMA -Etape 4- Villeneuve sur Yonne-St Seine L'Abbaye
DESCRIPTION:Cliquer pour accéder à \nl’affiche du jour \net \nle road book du jour \nLes participants roulent par petits groupes\, 2 à 5 motos\, les départs se font en général entre 8h et 9h\, les arrivées à partir de 16h.
URL:https://gavapmoto.com/event/fma-etape-4-villeneuve-sur-yonne-st-seine-labbaye/
LOCATION:Etape 4 Saint Seine l’Abbaye\, 19 Rue Foire aux Vaches\, Saint Seine l'Abbaye\, 21440\, France
CATEGORIES:FMA 2025
END:VEVENT
BEGIN:VEVENT
DTSTART;VALUE=DATE:20250821
DTEND;VALUE=DATE:20250822
DTSTAMP:20260423T004239
CREATED:20250730T191344Z
LAST-MODIFIED:20250805T154105Z
UID:6225-1755734400-1755820799@gavapmoto.com
SUMMARY:FMA -Etape 5- St Seine l'Abbaye-Paray le Monial
DESCRIPTION:Cliquer pour accéder à \nl’affiche du jour \net \nle road book du jour \nLes participants roulent par petits groupes\, 2 à 5 motos\, les départs se font en général entre 8h et 9h\, les arrivées à partir de 16h.
URL:https://gavapmoto.com/event/fma-etape-5-st-seine-labbaye-paray-le-monial/
LOCATION:Etape 5 Paray le Monial\, la Varenne\, Paray le Monial\, 71600
CATEGORIES:FMA 2025
END:VEVENT
BEGIN:VEVENT
DTSTART;VALUE=DATE:20250822
DTEND;VALUE=DATE:20250823
DTSTAMP:20260423T004239
CREATED:20250730T191532Z
LAST-MODIFIED:20250805T154136Z
UID:6227-1755820800-1755907199@gavapmoto.com
SUMMARY:FMA -Etape 6- Paray le Monial-Riom
DESCRIPTION:Cliquer pour accéder à \nl’affiche du jour \net \nle road book du jour \nLes participants roulent par petits groupes\, 2 à 5 motos\, les départs se font en général entre 8h et 9h\, les arrivées à partir de 16h.
URL:https://gavapmoto.com/event/fma-etape-6-paray-le-monial-riom/
LOCATION:Etape 6 Riom\, 1 rue Saint Don\, Riom\, 63200\, France
CATEGORIES:FMA 2025
END:VEVENT
BEGIN:VEVENT
DTSTART;VALUE=DATE:20250823
DTEND;VALUE=DATE:20250824
DTSTAMP:20260423T004239
CREATED:20250730T191753Z
LAST-MODIFIED:20250805T162432Z
UID:6229-1755907200-1755993599@gavapmoto.com
SUMMARY:FMA -Etape 7- Riom-Brengues
DESCRIPTION:Cliquer pour accéder à \nl’affiche du jour \net \nle road book du jour \nLes participants roulent par petits groupes\, 2 à 5 motos\, les départs se font en général entre 8h et 9h\, les arrivées à partir de 16h.
URL:https://gavapmoto.com/event/fma-etape-7-riom-brengues/
LOCATION:Etape 7 Brengues\, Moulin Vieux\, Brengues\, 46320\, France
CATEGORIES:FMA 2025
END:VEVENT
BEGIN:VEVENT
DTSTART;VALUE=DATE:20250825
DTEND;VALUE=DATE:20250826
DTSTAMP:20260423T004239
CREATED:20250730T191959Z
LAST-MODIFIED:20250805T154234Z
UID:6231-1756080000-1756166399@gavapmoto.com
SUMMARY:FMA -Etape 8- Brengues-Carcassonne
DESCRIPTION:Cliquer pour accéder à \nl’affiche du jour \net \nle road book du jour \nLes participants roulent par petits groupes\, 2 à 5 motos\, les départs se font en général entre 8h et 9h\, les arrivées à partir de 16h.
URL:https://gavapmoto.com/event/fma-etape-8-brengues-carcassonne/
LOCATION:Etape 8 Carcassonne\, Chemin Bernard Délicieux\, Carcassonne\, 11000\, France
CATEGORIES:FMA 2025
END:VEVENT
BEGIN:VEVENT
DTSTART;VALUE=DATE:20250826
DTEND;VALUE=DATE:20250827
DTSTAMP:20260423T004239
CREATED:20250730T192213Z
LAST-MODIFIED:20250805T154255Z
UID:6233-1756166400-1756252799@gavapmoto.com
SUMMARY:FMA -Etape 9- Carcassonne-Oust
DESCRIPTION:Cliquer pour accéder à \nl’affiche du jour \net \nle road book du jour \nLes participants roulent par petits groupes\, 2 à 5 motos\, les départs se font en général entre 8h et 9h\, les arrivées à partir de 16h.
URL:https://gavapmoto.com/event/fma-etape-9-carcassonne-oust/
LOCATION:Etape 9 Oust\, Route d'Aulus\, Oust\, 009140\, France
CATEGORIES:FMA 2025
END:VEVENT
BEGIN:VEVENT
DTSTART;VALUE=DATE:20250827
DTEND;VALUE=DATE:20250828
DTSTAMP:20260423T004239
CREATED:20250730T192429Z
LAST-MODIFIED:20250805T154314Z
UID:6235-1756252800-1756339199@gavapmoto.com
SUMMARY:FMA -Etape 10- Oust-Géronce
DESCRIPTION:Cliquer pour accéder à \nl’affiche du jour \net \nle road book du jour \nLes participants roulent par petits groupes\, 2 à 5 motos\, les départs se font en général entre 8h et 9h\, les arrivées à partir de 16h.
URL:https://gavapmoto.com/event/fma-etape-10-oust-geronce/
LOCATION:Etape 10 Geronce\, 29 route de la Naou\, Aren\, 64400\, France
CATEGORIES:FMA 2025
END:VEVENT
BEGIN:VEVENT
DTSTART;VALUE=DATE:20250828
DTEND;VALUE=DATE:20250829
DTSTAMP:20260423T004239
CREATED:20250730T192727Z
LAST-MODIFIED:20250805T154416Z
UID:6237-1756339200-1756425599@gavapmoto.com
SUMMARY:FMA -Etape 11- Géronce-Soustons
DESCRIPTION:Cliquer pour accéder à \nl’affiche du jour \net \nle road book du jour \nLes participants roulent par petits groupes\, 2 à 5 motos\, les départs se font en général entre 8h et 9h\, les arrivées à partir de 16h.
URL:https://gavapmoto.com/event/fma-etape-11-geronce-soustons/
LOCATION:Etape 11 Soustons\, 1225A Route de Mora\, Soustons\, 40140\, France
CATEGORIES:FMA 2025
END:VEVENT
BEGIN:VEVENT
DTSTART;VALUE=DATE:20250829
DTEND;VALUE=DATE:20250830
DTSTAMP:20260423T004239
CREATED:20250730T192949Z
LAST-MODIFIED:20250805T154440Z
UID:6239-1756425600-1756511999@gavapmoto.com
SUMMARY:FMA -Etape 12- Soustons-Cestas
DESCRIPTION:Cliquer pour accéder à \nl’affiche du jour \net \nle road book du jour \nLes participants roulent par petits groupes\, 2 à 5 motos\, les départs se font en général entre 8h et 9h\, les arrivées à partir de 16h.
URL:https://gavapmoto.com/event/fma-etape-12-soustons-cestas/
LOCATION:Etape 12 Cestas\, Chemin de Bourdieu\, Cestas\, 33610\, France
CATEGORIES:FMA 2025
END:VEVENT
BEGIN:VEVENT
DTSTART;VALUE=DATE:20250830
DTEND;VALUE=DATE:20250831
DTSTAMP:20260423T004239
CREATED:20250730T193155Z
LAST-MODIFIED:20250805T154504Z
UID:6241-1756512000-1756598399@gavapmoto.com
SUMMARY:FMA -Etape 13- Cestas-La Roche Chalais
DESCRIPTION:Cliquer pour accéder à \nl’affiche du jour \net \nle road book du jour \nLes participants roulent par petits groupes\, 2 à 5 motos\, les départs se font en général entre 8h et 9h\, les arrivées à partir de 16h.
URL:https://gavapmoto.com/event/fma-etape-13-cestas-la-roche-chalais/
LOCATION:Etape 13 La Roche Chalais\, Rue de la Dronne\, La Roche Chalais\, 24490\, France
CATEGORIES:FMA 2025
END:VEVENT
END:VCALENDAR