BEGIN:VCALENDAR
VERSION:2.0
PRODID:-//GAVAP-MOTO - ECPv6.15.20//NONSGML v1.0//EN
CALSCALE:GREGORIAN
METHOD:PUBLISH
X-ORIGINAL-URL:https://gavapmoto.com
X-WR-CALDESC:Évènements pour GAVAP-MOTO
REFRESH-INTERVAL;VALUE=DURATION:PT1H
X-Robots-Tag:noindex
X-PUBLISHED-TTL:PT1H
BEGIN:VTIMEZONE
TZID:Europe/Paris
BEGIN:DAYLIGHT
TZOFFSETFROM:+0100
TZOFFSETTO:+0200
TZNAME:CEST
DTSTART:20240331T010000
END:DAYLIGHT
BEGIN:STANDARD
TZOFFSETFROM:+0200
TZOFFSETTO:+0100
TZNAME:CET
DTSTART:20241027T010000
END:STANDARD
BEGIN:DAYLIGHT
TZOFFSETFROM:+0100
TZOFFSETTO:+0200
TZNAME:CEST
DTSTART:20250330T010000
END:DAYLIGHT
BEGIN:STANDARD
TZOFFSETFROM:+0200
TZOFFSETTO:+0100
TZNAME:CET
DTSTART:20251026T010000
END:STANDARD
BEGIN:DAYLIGHT
TZOFFSETFROM:+0100
TZOFFSETTO:+0200
TZNAME:CEST
DTSTART:20260329T010000
END:DAYLIGHT
BEGIN:STANDARD
TZOFFSETFROM:+0200
TZOFFSETTO:+0100
TZNAME:CET
DTSTART:20261025T010000
END:STANDARD
END:VTIMEZONE
BEGIN:VEVENT
DTSTART;VALUE=DATE:20250901
DTEND;VALUE=DATE:20250902
DTSTAMP:20260422T230036
CREATED:20250730T193347Z
LAST-MODIFIED:20250805T154547Z
UID:6243-1756684800-1756771199@gavapmoto.com
SUMMARY:FMA -Etape 14- La Roche Chalais-Château d'Oleron
DESCRIPTION:Cliquer pour accéder à \nl’affiche du jour \net \nle road book du jour \nLes participants roulent par petits groupes\, 2 à 5 motos\, les départs se font en général entre 8h et 9h\, les arrivées à partir de 16h.
URL:https://gavapmoto.com/event/fma-etape-14-la-roche-chalais-chateau-doleron/
LOCATION:Etape 14 Le Chateau d’Oleron\, Avenue de la Citadelle\, Le Chateau d'Oleron\, 17480\, France
CATEGORIES:FMA 2025
END:VEVENT
BEGIN:VEVENT
DTSTART;VALUE=DATE:20250902
DTEND;VALUE=DATE:20250903
DTSTAMP:20260422T230036
CREATED:20250730T193523Z
LAST-MODIFIED:20250805T154626Z
UID:6245-1756771200-1756857599@gavapmoto.com
SUMMARY:FMA -Etape 15- Château d'Oléron-Givrand
DESCRIPTION:Cliquer pour accéder à \nl’affiche du jour \net \nle road book du jour \nLes participants roulent par petits groupes\, 2 à 5 motos\, les départs se font en général entre 8h et 9h\, les arrivées à partir de 16h.
URL:https://gavapmoto.com/event/fma-etape-15-chateau-doleron-givrand/
LOCATION:Etape 15 Givrand\, 98 rue de la Rousselotière\, Givrand\, 85800\, France
CATEGORIES:FMA 2025
END:VEVENT
BEGIN:VEVENT
DTSTART;VALUE=DATE:20250903
DTEND;VALUE=DATE:20250904
DTSTAMP:20260422T230036
CREATED:20250730T193653Z
LAST-MODIFIED:20250810T061132Z
UID:6247-1756857600-1756943999@gavapmoto.com
SUMMARY:FMA -Etape 16- Givrand-La Bazouge du Désert
DESCRIPTION:Cliquer pour accéder à \nl’affiche du jour \net \nle road book du jour \nLes participants roulent par petits groupes\, 2 à 5 motos\, les départs se font en général entre 8h et 9h\, les arrivées à partir de 16h.
URL:https://gavapmoto.com/event/fma-etape-16-givrand-la-bazouge-du-desert/
LOCATION:Etape 16 La Bazouge du Desert\, 3 rue de l'Anglet\, La Bazouge du Desert\, 35420\, France
CATEGORIES:FMA 2025
END:VEVENT
BEGIN:VEVENT
DTSTART;VALUE=DATE:20250904
DTEND;VALUE=DATE:20250905
DTSTAMP:20260422T230036
CREATED:20250730T193938Z
LAST-MODIFIED:20250805T154715Z
UID:6249-1756944000-1757030399@gavapmoto.com
SUMMARY:FMA -Etape 17- La Bazouge du Desert-Luc sur Mer
DESCRIPTION:Cliquer pour accéder à \nl’affiche du jour \net \nle road book du jour \nLes participants roulent par petits groupes\, 2 à 5 motos\, les départs se font en général entre 8h et 9h\, les arrivées à partir de 16h.
URL:https://gavapmoto.com/event/fma-etape-17-la-bazouge-du-desert-luc-sur-mer/
LOCATION:Etape 17 Luc sur mer\, Rue Brummel\, Luc sur Mer\, 14530\, France
CATEGORIES:FMA 2025
END:VEVENT
BEGIN:VEVENT
DTSTART;VALUE=DATE:20250905
DTEND;VALUE=DATE:20250906
DTSTAMP:20260422T230036
CREATED:20250730T194120Z
LAST-MODIFIED:20250805T154746Z
UID:6251-1757030400-1757116799@gavapmoto.com
SUMMARY:FMA -Etape 18- Luc sur Mer -St Quentin la Motte
DESCRIPTION:Cliquer pour accéder à \nl’affiche du jour \net \nle road book du jour \nLes participants roulent par petits groupes\, 2 à 5 motos\, les départs se font en général entre 8h et 9h\, les arrivées à partir de 16h.
URL:https://gavapmoto.com/event/fma-etape-18-luc-sur-mer-st-quentin-la-motte/
LOCATION:Etape 18 Saint Quentin Lamotte\, Rue Pierre Debroutelle\, Saint Quentin Lamotte Croix au Bailly\, 80880\, France
END:VEVENT
BEGIN:VEVENT
DTSTART;VALUE=DATE:20250906
DTEND;VALUE=DATE:20250907
DTSTAMP:20260422T230036
CREATED:20250730T194305Z
LAST-MODIFIED:20250805T154820Z
UID:6253-1757116800-1757203199@gavapmoto.com
SUMMARY:FMA -Etape 19- St Quentin la Motte - Longpré
DESCRIPTION:Cliquer pour accéder à \nl’affiche du jour \net \nle road book du jour \nLes participants roulent par petits groupes\, 2 à 5 motos\, les départs se font en général entre 8h et 9h\, les arrivées à partir de 16h.
URL:https://gavapmoto.com/event/fma-etape-19-st-quentin-la-motte-longpre/
CATEGORIES:FMA 2025
END:VEVENT
END:VCALENDAR