BEGIN:VCALENDAR
VERSION:2.0
PRODID:-//GAVAP-MOTO - ECPv6.15.20//NONSGML v1.0//EN
CALSCALE:GREGORIAN
METHOD:PUBLISH
X-WR-CALNAME:GAVAP-MOTO
X-ORIGINAL-URL:https://gavapmoto.com
X-WR-CALDESC:Évènements pour GAVAP-MOTO
REFRESH-INTERVAL;VALUE=DURATION:PT1H
X-Robots-Tag:noindex
X-PUBLISHED-TTL:PT1H
BEGIN:VTIMEZONE
TZID:Europe/Paris
BEGIN:DAYLIGHT
TZOFFSETFROM:+0100
TZOFFSETTO:+0200
TZNAME:CEST
DTSTART:20250330T010000
END:DAYLIGHT
BEGIN:STANDARD
TZOFFSETFROM:+0200
TZOFFSETTO:+0100
TZNAME:CET
DTSTART:20251026T010000
END:STANDARD
BEGIN:DAYLIGHT
TZOFFSETFROM:+0100
TZOFFSETTO:+0200
TZNAME:CEST
DTSTART:20260329T010000
END:DAYLIGHT
BEGIN:STANDARD
TZOFFSETFROM:+0200
TZOFFSETTO:+0100
TZNAME:CET
DTSTART:20261025T010000
END:STANDARD
BEGIN:DAYLIGHT
TZOFFSETFROM:+0100
TZOFFSETTO:+0200
TZNAME:CEST
DTSTART:20270328T010000
END:DAYLIGHT
BEGIN:STANDARD
TZOFFSETFROM:+0200
TZOFFSETTO:+0100
TZNAME:CET
DTSTART:20271031T010000
END:STANDARD
END:VTIMEZONE
BEGIN:VEVENT
DTSTART;TZID=Europe/Paris:20260125T093000
DTEND;TZID=Europe/Paris:20260125T153000
DTSTAMP:20260422T175742
CREATED:20250122T152104Z
LAST-MODIFIED:20260124T174927Z
UID:5613-1769333400-1769355000@gavapmoto.com
SUMMARY:Assemblée Générale
DESCRIPTION:Salle des fêtes de Flixecourt \n4 Rue Martin Saillant \n80510 Longpré-les-Corps-Saints
URL:https://gavapmoto.com/event/assemblee-generale-2/
LOCATION:Flixecourt
END:VEVENT
END:VCALENDAR