BEGIN:VCALENDAR
VERSION:2.0
PRODID:-//GAVAP-MOTO - ECPv6.15.20//NONSGML v1.0//EN
CALSCALE:GREGORIAN
METHOD:PUBLISH
X-ORIGINAL-URL:https://gavapmoto.com
X-WR-CALDESC:Évènements pour GAVAP-MOTO
REFRESH-INTERVAL;VALUE=DURATION:PT1H
X-Robots-Tag:noindex
X-PUBLISHED-TTL:PT1H
BEGIN:VTIMEZONE
TZID:Europe/Paris
BEGIN:DAYLIGHT
TZOFFSETFROM:+0100
TZOFFSETTO:+0200
TZNAME:CEST
DTSTART:20250330T010000
END:DAYLIGHT
BEGIN:STANDARD
TZOFFSETFROM:+0200
TZOFFSETTO:+0100
TZNAME:CET
DTSTART:20251026T010000
END:STANDARD
BEGIN:DAYLIGHT
TZOFFSETFROM:+0100
TZOFFSETTO:+0200
TZNAME:CEST
DTSTART:20260329T010000
END:DAYLIGHT
BEGIN:STANDARD
TZOFFSETFROM:+0200
TZOFFSETTO:+0100
TZNAME:CET
DTSTART:20261025T010000
END:STANDARD
BEGIN:DAYLIGHT
TZOFFSETFROM:+0100
TZOFFSETTO:+0200
TZNAME:CEST
DTSTART:20270328T010000
END:DAYLIGHT
BEGIN:STANDARD
TZOFFSETFROM:+0200
TZOFFSETTO:+0100
TZNAME:CET
DTSTART:20271031T010000
END:STANDARD
END:VTIMEZONE
BEGIN:VEVENT
DTSTART;TZID=Europe/Paris:20260503T080000
DTEND;TZID=Europe/Paris:20260503T170000
DTSTAMP:20260422T144500
CREATED:20260126T134214Z
LAST-MODIFIED:20260126T134214Z
UID:7588-1777795200-1777827600@gavapmoto.com
SUMMARY:Sortie des petits cubes
DESCRIPTION:Sortie cyclomoteur au départ de Péronne
URL:https://gavapmoto.com/event/sortie-des-petits-cubes/
LOCATION:Peronne\, Péronne\, France
END:VEVENT
BEGIN:VEVENT
DTSTART;TZID=Europe/Paris:20260522T080000
DTEND;TZID=Europe/Paris:20260524T170000
DTSTAMP:20260422T144500
CREATED:20260126T135516Z
LAST-MODIFIED:20260126T135516Z
UID:7601-1779436800-1779642000@gavapmoto.com
SUMMARY:Rallye des Vieux Clous
DESCRIPTION:47 -ème Edition de la Balade des Vieux Clous
URL:https://gavapmoto.com/event/rallye-des-vieux-clous/
END:VEVENT
END:VCALENDAR