BEGIN:VCALENDAR
VERSION:2.0
PRODID:-//GAVAP-MOTO - ECPv6.15.20//NONSGML v1.0//EN
CALSCALE:GREGORIAN
METHOD:PUBLISH
X-WR-CALNAME:GAVAP-MOTO
X-ORIGINAL-URL:https://gavapmoto.com
X-WR-CALDESC:Évènements pour GAVAP-MOTO
REFRESH-INTERVAL;VALUE=DURATION:PT1H
X-Robots-Tag:noindex
X-PUBLISHED-TTL:PT1H
BEGIN:VTIMEZONE
TZID:Europe/Paris
BEGIN:DAYLIGHT
TZOFFSETFROM:+0100
TZOFFSETTO:+0200
TZNAME:CEST
DTSTART:20250330T010000
END:DAYLIGHT
BEGIN:STANDARD
TZOFFSETFROM:+0200
TZOFFSETTO:+0100
TZNAME:CET
DTSTART:20251026T010000
END:STANDARD
BEGIN:DAYLIGHT
TZOFFSETFROM:+0100
TZOFFSETTO:+0200
TZNAME:CEST
DTSTART:20260329T010000
END:DAYLIGHT
BEGIN:STANDARD
TZOFFSETFROM:+0200
TZOFFSETTO:+0100
TZNAME:CET
DTSTART:20261025T010000
END:STANDARD
BEGIN:DAYLIGHT
TZOFFSETFROM:+0100
TZOFFSETTO:+0200
TZNAME:CEST
DTSTART:20270328T010000
END:DAYLIGHT
BEGIN:STANDARD
TZOFFSETFROM:+0200
TZOFFSETTO:+0100
TZNAME:CET
DTSTART:20271031T010000
END:STANDARD
END:VTIMEZONE
BEGIN:VEVENT
DTSTART;TZID=Europe/Paris:20260426T090000
DTEND;TZID=Europe/Paris:20260426T170000
DTSTAMP:20260422T130418
CREATED:20260126T134027Z
LAST-MODIFIED:20260403T171441Z
UID:7585-1777194000-1777222800@gavapmoto.com
SUMMARY:Balade de Printemps
DESCRIPTION:Balade en collaboration avec le RGO \nAu départ de Montreuil sur Brêche \nInscription ici Balade Printemps
URL:https://gavapmoto.com/event/balade-de-printemps-2/
LOCATION:Montreuil sur Brêche\, France
END:VEVENT
END:VCALENDAR